BEGIN:VCALENDAR
VERSION:2.0
PRODID:-//New Hope Ministries - ECPv6.15.14//NONSGML v1.0//EN
CALSCALE:GREGORIAN
METHOD:PUBLISH
X-ORIGINAL-URL:https://www.newhopenaples.com
X-WR-CALDESC:Events for New Hope Ministries
REFRESH-INTERVAL;VALUE=DURATION:PT1H
X-Robots-Tag:noindex
X-PUBLISHED-TTL:PT1H
BEGIN:VTIMEZONE
TZID:America/Halifax
BEGIN:DAYLIGHT
TZOFFSETFROM:-0400
TZOFFSETTO:-0300
TZNAME:ADT
DTSTART:20240310T060000
END:DAYLIGHT
BEGIN:STANDARD
TZOFFSETFROM:-0300
TZOFFSETTO:-0400
TZNAME:AST
DTSTART:20241103T050000
END:STANDARD
BEGIN:DAYLIGHT
TZOFFSETFROM:-0400
TZOFFSETTO:-0300
TZNAME:ADT
DTSTART:20250309T060000
END:DAYLIGHT
BEGIN:STANDARD
TZOFFSETFROM:-0300
TZOFFSETTO:-0400
TZNAME:AST
DTSTART:20251102T050000
END:STANDARD
BEGIN:DAYLIGHT
TZOFFSETFROM:-0400
TZOFFSETTO:-0300
TZNAME:ADT
DTSTART:20260308T060000
END:DAYLIGHT
BEGIN:STANDARD
TZOFFSETFROM:-0300
TZOFFSETTO:-0400
TZNAME:AST
DTSTART:20261101T050000
END:STANDARD
END:VTIMEZONE
BEGIN:VEVENT
DTSTART;TZID=America/Halifax:20250912T190000
DTEND;TZID=America/Halifax:20250912T203000
DTSTAMP:20260423T053643
CREATED:20250731T174618Z
LAST-MODIFIED:20250911T175504Z
UID:47896-1757703600-1757709000@www.newhopenaples.com
SUMMARY:Deeper Still - Women's Conference
DESCRIPTION:Registration is now closed\, but we’re still welcoming walk-ins.Come on out—we’d love to see you there!
URL:https://www.newhopenaples.com/events/deeper-still-womens-conference/
CATEGORIES:Events
END:VEVENT
BEGIN:VEVENT
DTSTART;TZID=America/Halifax:20250913T080000
DTEND;TZID=America/Halifax:20250913T130000
DTSTAMP:20260423T053643
CREATED:20250731T174721Z
LAST-MODIFIED:20250911T175540Z
UID:47898-1757750400-1757768400@www.newhopenaples.com
SUMMARY:Deeper Still - Women's Conference
DESCRIPTION:Registration is now closed\, but we’re still welcoming walk-ins.Come on out—we’d love to see you there!
URL:https://www.newhopenaples.com/events/deeper-still-womens-conference-2/
CATEGORIES:Events
END:VEVENT
END:VCALENDAR